BEGIN:VCALENDAR
PRODID:-//eluceo/ical//2.0/EN
VERSION:2.0
CALSCALE:GREGORIAN
BEGIN:VEVENT
UID:a6942e62560b934508eafee7b8d4b776
DTSTAMP:20260423T205249Z
SUMMARY:WOMADelaide
DESCRIPTION:https://kermeszalest.com/nl/agenda/womadelaide
DTSTART;VALUE=DATE:20200306
DTEND;VALUE=DATE:20200310
LOCATION:
END:VEVENT
END:VCALENDAR
