BEGIN:VCALENDAR
PRODID:-//eluceo/ical//2.0/EN
VERSION:2.0
CALSCALE:GREGORIAN
BEGIN:VEVENT
UID:e522c77973bd7c2f9d6aee2d250ef50a
DTSTAMP:20260419T235442Z
SUMMARY:WOMAD New Zeland
DESCRIPTION:https://kermeszalest.com/nl/agenda/womad-new-zeland
DTSTART;VALUE=DATE:20200313
DTEND;VALUE=DATE:20200316
LOCATION:
END:VEVENT
END:VCALENDAR
