BEGIN:VCALENDAR
PRODID:-//eluceo/ical//2.0/EN
VERSION:2.0
CALSCALE:GREGORIAN
BEGIN:VEVENT
UID:fdffb92f6add6460876a95d165fc20d4
DTSTAMP:20260425T144531Z
SUMMARY:Ward'in Rock festival
DESCRIPTION:https://kermeszalest.com/nl/agenda/ward-in-rock-festival
DTSTART;VALUE=DATE:20160903
DTEND;VALUE=DATE:20160904
LOCATION:
END:VEVENT
END:VCALENDAR
