BEGIN:VCALENDAR
PRODID:-//eluceo/ical//2.0/EN
VERSION:2.0
CALSCALE:GREGORIAN
BEGIN:VEVENT
UID:1d4ba2dbda49a2ad58d2c855e65105c0
DTSTAMP:20260425T130943Z
SUMMARY:Tempo Color
DESCRIPTION:https://kermeszalest.com/nl/agenda/tempo-color-liege-be
DTSTART;VALUE=DATE:20180922
DTEND;VALUE=DATE:20180923
LOCATION:
END:VEVENT
END:VCALENDAR
