BEGIN:VCALENDAR
PRODID:-//eluceo/ical//2.0/EN
VERSION:2.0
CALSCALE:GREGORIAN
BEGIN:VEVENT
UID:7ba9627cf680ba3dabc4ae94b82cd83c
DTSTAMP:20260425T173229Z
SUMMARY:Tchestia Fiesse
DESCRIPTION:https://kermeszalest.com/nl/agenda/tchestia-fiesse
DTSTART;VALUE=DATE:20230901
DTEND;VALUE=DATE:20230902
LOCATION:
END:VEVENT
END:VCALENDAR
