BEGIN:VCALENDAR
PRODID:-//eluceo/ical//2.0/EN
VERSION:2.0
CALSCALE:GREGORIAN
BEGIN:VEVENT
UID:557419518b926f3bcb613d8342e84529
DTSTAMP:20260425T000603Z
SUMMARY:Schelderode
DESCRIPTION:https://kermeszalest.com/nl/agenda/schelderode
DTSTART;VALUE=DATE:20210926
DTEND;VALUE=DATE:20210927
LOCATION:
END:VEVENT
END:VCALENDAR
