BEGIN:VCALENDAR
PRODID:-//eluceo/ical//2.0/EN
VERSION:2.0
CALSCALE:GREGORIAN
BEGIN:VEVENT
UID:f41f07663bb13489a6f5559c04ccb11d
DTSTAMP:20260419T210447Z
SUMMARY:Risquons Tout en Goguette
DESCRIPTION:https://kermeszalest.com/nl/agenda/risquons-tout-en-goguette
DTSTART;VALUE=DATE:20230630
DTEND;VALUE=DATE:20230701
LOCATION:
END:VEVENT
END:VCALENDAR
