BEGIN:VCALENDAR
PRODID:-//eluceo/ical//2.0/EN
VERSION:2.0
CALSCALE:GREGORIAN
BEGIN:VEVENT
UID:440a5de4985d9f0bcd7001ce55a68118
DTSTAMP:20260425T172526Z
SUMMARY:Plein de Cirque
DESCRIPTION:https://kermeszalest.com/nl/agenda/plein-de-cirque
DTSTART;VALUE=DATE:20210911
DTEND;VALUE=DATE:20210913
LOCATION:
END:VEVENT
END:VCALENDAR
