BEGIN:VCALENDAR
PRODID:-//eluceo/ical//2.0/EN
VERSION:2.0
CALSCALE:GREGORIAN
BEGIN:VEVENT
UID:7983ddef40d6778a055f4756253aee26
DTSTAMP:20260425T142028Z
SUMMARY:Parc royal
DESCRIPTION:https://kermeszalest.com/nl/agenda/parc-royal
DTSTART;VALUE=DATE:20150726
DTEND;VALUE=DATE:20150727
LOCATION:
END:VEVENT
END:VCALENDAR
