BEGIN:VCALENDAR
PRODID:-//eluceo/ical//2.0/EN
VERSION:2.0
CALSCALE:GREGORIAN
BEGIN:VEVENT
UID:73d773091424a0851460d7929d55b3b9
DTSTAMP:20260425T143445Z
SUMMARY:Onderstroom Festival
DESCRIPTION:https://kermeszalest.com/nl/agenda/onderstroom-festival
DTSTART;VALUE=DATE:20120705
DTEND;VALUE=DATE:20120706
LOCATION:
END:VEVENT
END:VCALENDAR
