BEGIN:VCALENDAR
PRODID:-//eluceo/ical//2.0/EN
VERSION:2.0
CALSCALE:GREGORIAN
BEGIN:VEVENT
UID:d717e317107ff6458c0125bd13ebd011
DTSTAMP:20260425T172827Z
SUMMARY:Namur en Mai
DESCRIPTION:https://kermeszalest.com/nl/agenda/namur-en-mai
DTSTART;VALUE=DATE:20110603
DTEND;VALUE=DATE:20110604
LOCATION:
END:VEVENT
END:VCALENDAR
