BEGIN:VCALENDAR
PRODID:-//eluceo/ical//2.0/EN
VERSION:2.0
CALSCALE:GREGORIAN
BEGIN:VEVENT
UID:592b55ff876a9427acae3b22378ae9b5
DTSTAMP:20260425T171346Z
SUMMARY:Les Fantaisies
DESCRIPTION:https://kermeszalest.com/nl/agenda/les-fantaisies
DTSTART;VALUE=DATE:20230429
DTEND;VALUE=DATE:20230430
LOCATION:
END:VEVENT
END:VCALENDAR
