BEGIN:VCALENDAR
PRODID:-//eluceo/ical//2.0/EN
VERSION:2.0
CALSCALE:GREGORIAN
BEGIN:VEVENT
UID:43c0fe344256a1c3ca72d0346ce7f5e4
DTSTAMP:20260425T172444Z
SUMMARY:Landbouwbelang
DESCRIPTION:https://kermeszalest.com/nl/agenda/landbouwbelang
DTSTART;VALUE=DATE:20220917
DTEND;VALUE=DATE:20220918
LOCATION:Biesenwal 3 6211 AD Maastricht (nl)
END:VEVENT
END:VCALENDAR
