BEGIN:VCALENDAR
PRODID:-//eluceo/ical//2.0/EN
VERSION:2.0
CALSCALE:GREGORIAN
BEGIN:VEVENT
UID:c2ca0dbba3c0f3a1dc59f2502fd754d7
DTSTAMP:20260423T070654Z
SUMMARY:KulturPflaster
DESCRIPTION:https://kermeszalest.com/nl/agenda/kulturpflaster-1
DTSTART;VALUE=DATE:20220909
DTEND;VALUE=DATE:20220912
LOCATION:
END:VEVENT
END:VCALENDAR
