BEGIN:VCALENDAR
PRODID:-//eluceo/ical//2.0/EN
VERSION:2.0
CALSCALE:GREGORIAN
BEGIN:VEVENT
UID:fd5a12b0cf9267f06901dbdcebc5bf05
DTSTAMP:20260425T115024Z
SUMMARY:Jazz sous les pommiers
DESCRIPTION:https://kermeszalest.com/nl/agenda/jazz-sous-les-pommiers
DTSTART;VALUE=DATE:20150501
DTEND;VALUE=DATE:20150502
LOCATION:
END:VEVENT
END:VCALENDAR
