BEGIN:VCALENDAR
PRODID:-//eluceo/ical//2.0/EN
VERSION:2.0
CALSCALE:GREGORIAN
BEGIN:VEVENT
UID:7c0aa67967e4e903cdecd66dd2fd16fe
DTSTAMP:20260425T112957Z
SUMMARY:Jam in wood
DESCRIPTION:https://kermeszalest.com/nl/agenda/jam-in-wood
DTSTART;VALUE=DATE:20160514
DTEND;VALUE=DATE:20160515
LOCATION:
END:VEVENT
END:VCALENDAR
