BEGIN:VCALENDAR
PRODID:-//eluceo/ical//2.0/EN
VERSION:2.0
CALSCALE:GREGORIAN
BEGIN:VEVENT
UID:3a6d6b199317b650d7f174cf8f638f98
DTSTAMP:20260425T145448Z
SUMMARY:I love mon île
DESCRIPTION:https://kermeszalest.com/nl/agenda/i-love-mon-ile
DTSTART;VALUE=DATE:20220619
DTEND;VALUE=DATE:20220620
LOCATION:
END:VEVENT
END:VCALENDAR
