BEGIN:VCALENDAR
PRODID:-//eluceo/ical//2.0/EN
VERSION:2.0
CALSCALE:GREGORIAN
BEGIN:VEVENT
UID:f738aa7a0858e691e287dc2586f4b847
DTSTAMP:20260425T143341Z
SUMMARY:Hazebrouck Summer Tour
DESCRIPTION:https://kermeszalest.com/nl/agenda/hazebrouck-summer-tour
DTSTART;VALUE=DATE:20210823
DTEND;VALUE=DATE:20210902
LOCATION:
END:VEVENT
END:VCALENDAR
