BEGIN:VCALENDAR
PRODID:-//eluceo/ical//2.0/EN
VERSION:2.0
CALSCALE:GREGORIAN
BEGIN:VEVENT
UID:8c955bca0f4c739cd24482dadfc46d93
DTSTAMP:20260425T172556Z
SUMMARY:Fêtes de Wallonie
DESCRIPTION:https://kermeszalest.com/nl/agenda/fetes-de-wallonie
DTSTART;VALUE=DATE:20150906
DTEND;VALUE=DATE:20150907
LOCATION:
END:VEVENT
END:VCALENDAR
