BEGIN:VCALENDAR
PRODID:-//eluceo/ical//2.0/EN
VERSION:2.0
CALSCALE:GREGORIAN
BEGIN:VEVENT
UID:84a2c01fba1de60ae722ee5344f11b0b
DTSTAMP:20260425T173004Z
SUMMARY:Fêtes de la musique
DESCRIPTION:https://kermeszalest.com/nl/agenda/fetes-de-la-musique
DTSTART;VALUE=DATE:20240623
DTEND;VALUE=DATE:20240624
LOCATION:
END:VEVENT
END:VCALENDAR
