BEGIN:VCALENDAR
PRODID:-//eluceo/ical//2.0/EN
VERSION:2.0
CALSCALE:GREGORIAN
BEGIN:VEVENT
UID:0f658b5a9e14f387cdcd16cb835f38e8
DTSTAMP:20260425T112458Z
SUMMARY:Festival
DESCRIPTION:https://kermeszalest.com/nl/agenda/festival
DTSTART;VALUE=DATE:20160910
DTEND;VALUE=DATE:20160911
LOCATION:
END:VEVENT
END:VCALENDAR
