BEGIN:VCALENDAR
PRODID:-//eluceo/ical//2.0/EN
VERSION:2.0
CALSCALE:GREGORIAN
BEGIN:VEVENT
UID:dc56bc2bda7821c692ba53612b163158
DTSTAMP:20260425T142028Z
SUMMARY:Festival Klezmer
DESCRIPTION:https://kermeszalest.com/nl/agenda/festival-klezmer
DTSTART;VALUE=DATE:20090101
DTEND;VALUE=DATE:20090102
LOCATION:
END:VEVENT
END:VCALENDAR
