BEGIN:VCALENDAR
PRODID:-//eluceo/ical//2.0/EN
VERSION:2.0
CALSCALE:GREGORIAN
BEGIN:VEVENT
UID:a182dd7483df54124127c3f8ac82e6ed
DTSTAMP:20260425T172547Z
SUMMARY:Festival Italiano
DESCRIPTION:https://kermeszalest.com/nl/agenda/festival-italiano
DTSTART;VALUE=DATE:20220626
DTEND;VALUE=DATE:20220627
LOCATION:Esplanade De L'avenir
END:VEVENT
END:VCALENDAR
