BEGIN:VCALENDAR
PRODID:-//eluceo/ical//2.0/EN
VERSION:2.0
CALSCALE:GREGORIAN
BEGIN:VEVENT
UID:bd93d89d9bba324b7bd9ef918ef6f2e3
DTSTAMP:20260422T184100Z
SUMMARY:Festival ELFE
DESCRIPTION:https://kermeszalest.com/nl/agenda/festival-elfe
DTSTART;VALUE=DATE:20221008
DTEND;VALUE=DATE:20221009
LOCATION:
END:VEVENT
END:VCALENDAR
