BEGIN:VCALENDAR
PRODID:-//eluceo/ical//2.0/EN
VERSION:2.0
CALSCALE:GREGORIAN
BEGIN:VEVENT
UID:f68fe8ca0652f6d5b8733da13fda4ee1
DTSTAMP:20260421T005355Z
SUMMARY:Festival Détourné
DESCRIPTION:https://kermeszalest.com/nl/agenda/festival-detourne
DTSTART;VALUE=DATE:20231014
DTEND;VALUE=DATE:20231015
LOCATION:
END:VEVENT
END:VCALENDAR
