BEGIN:VCALENDAR
PRODID:-//eluceo/ical//2.0/EN
VERSION:2.0
CALSCALE:GREGORIAN
BEGIN:VEVENT
UID:c597566a752f4812997d270003f0593a
DTSTAMP:20260425T144441Z
SUMMARY:Festival Cratère Surfaces
DESCRIPTION:https://kermeszalest.com/nl/agenda/festival-cratere-surfaces-al
 es-fr
DTSTART;VALUE=DATE:20190705
DTEND;VALUE=DATE:20190707
LOCATION:
END:VEVENT
END:VCALENDAR
