BEGIN:VCALENDAR
PRODID:-//eluceo/ical//2.0/EN
VERSION:2.0
CALSCALE:GREGORIAN
BEGIN:VEVENT
UID:24c0702fbb84e1e73aaf6d35cdfc5a78
DTSTAMP:20260425T112833Z
SUMMARY:Festival
DESCRIPTION:https://kermeszalest.com/nl/agenda/festival-1
DTSTART;VALUE=DATE:20151010
DTEND;VALUE=DATE:20151011
LOCATION:
END:VEVENT
END:VCALENDAR
