BEGIN:VCALENDAR
PRODID:-//eluceo/ical//2.0/EN
VERSION:2.0
CALSCALE:GREGORIAN
BEGIN:VEVENT
UID:da779b6eca68fcc9d30c315a97d8a639
DTSTAMP:20260425T150206Z
SUMMARY:European Juggling Convention
DESCRIPTION:https://kermeszalest.com/nl/agenda/european-juggling-convention
DTSTART;VALUE=DATE:20150731
DTEND;VALUE=DATE:20150801
LOCATION:
END:VEVENT
END:VCALENDAR
