BEGIN:VCALENDAR
PRODID:-//eluceo/ical//2.0/EN
VERSION:2.0
CALSCALE:GREGORIAN
BEGIN:VEVENT
UID:d44adeb58b0c5963a2e2f28434a899fb
DTSTAMP:20260425T231628Z
SUMMARY:EuropaJazz
DESCRIPTION:https://kermeszalest.com/nl/agenda/europajazz
DTSTART;VALUE=DATE:20160423
DTEND;VALUE=DATE:20160424
LOCATION:
END:VEVENT
END:VCALENDAR
