BEGIN:VCALENDAR
PRODID:-//eluceo/ical//2.0/EN
VERSION:2.0
CALSCALE:GREGORIAN
BEGIN:VEVENT
UID:dc47169c9d5f128f7688cf4a7226e018
DTSTAMP:20260425T172225Z
SUMMARY:Salle Edmond Vigne
DESCRIPTION:https://kermeszalest.com/nl/agenda/edmond-vigne
DTSTART;VALUE=DATE:20160917
DTEND;VALUE=DATE:20160918
LOCATION:
END:VEVENT
END:VCALENDAR
