BEGIN:VCALENDAR
PRODID:-//eluceo/ical//2.0/EN
VERSION:2.0
CALSCALE:GREGORIAN
BEGIN:VEVENT
UID:6231d2cf54555849a157a21f509733e4
DTSTAMP:20260425T142220Z
SUMMARY:Eden
DESCRIPTION:https://kermeszalest.com/nl/agenda/eden
DTSTART;VALUE=DATE:20170629
DTEND;VALUE=DATE:20170630
LOCATION:
END:VEVENT
END:VCALENDAR
