BEGIN:VCALENDAR
PRODID:-//eluceo/ical//2.0/EN
VERSION:2.0
CALSCALE:GREGORIAN
BEGIN:VEVENT
UID:81b39589360e28628341feecc6946da6
DTSTAMP:20260425T115249Z
SUMMARY:Coucou Brussels
DESCRIPTION:https://kermeszalest.com/nl/agenda/coucou-brussels
DTSTART;VALUE=DATE:20210909
DTEND;VALUE=DATE:20210910
LOCATION:Kunstberg\nBrüssel
END:VEVENT
END:VCALENDAR
