BEGIN:VCALENDAR
PRODID:-//eluceo/ical//2.0/EN
VERSION:2.0
CALSCALE:GREGORIAN
BEGIN:VEVENT
UID:2685ef4a1f961fee158d7d31b8fd3111
DTSTAMP:20260425T173430Z
SUMMARY:Colora festival
DESCRIPTION:https://kermeszalest.com/nl/agenda/colora-festival-leuven-be
DTSTART;VALUE=DATE:20180819
DTEND;VALUE=DATE:20180820
LOCATION:
END:VEVENT
END:VCALENDAR
