BEGIN:VCALENDAR
PRODID:-//eluceo/ical//2.0/EN
VERSION:2.0
CALSCALE:GREGORIAN
BEGIN:VEVENT
UID:26d07b454d1c04422a093cab7cffd2b8
DTSTAMP:20260425T114501Z
SUMMARY:Chalon dans la rue
DESCRIPTION:https://kermeszalest.com/nl/agenda/chalon-dans-la-rue-1
DTSTART;VALUE=DATE:20230719
DTEND;VALUE=DATE:20230721
LOCATION:
END:VEVENT
END:VCALENDAR
