BEGIN:VCALENDAR
PRODID:-//eluceo/ical//2.0/EN
VERSION:2.0
CALSCALE:GREGORIAN
BEGIN:VEVENT
UID:ed591829d258186be7e130e34bc60504
DTSTAMP:20260425T112644Z
SUMMARY:Centre Fedasil
DESCRIPTION:https://kermeszalest.com/nl/agenda/centre-fedasil
DTSTART;VALUE=DATE:20151229
DTEND;VALUE=DATE:20151230
LOCATION:
END:VEVENT
END:VCALENDAR
