BEGIN:VCALENDAR
PRODID:-//eluceo/ical//2.0/EN
VERSION:2.0
CALSCALE:GREGORIAN
BEGIN:VEVENT
UID:2e2c946592e513b27cee1d32a2e818c8
DTSTAMP:20260425T170454Z
SUMMARY:Centre Culturel On Tour
DESCRIPTION:https://kermeszalest.com/nl/agenda/centre-culturel-on-tour
DTSTART;VALUE=DATE:20210618
DTEND;VALUE=DATE:20210619
LOCATION:
END:VEVENT
END:VCALENDAR
