BEGIN:VCALENDAR
PRODID:-//eluceo/ical//2.0/EN
VERSION:2.0
CALSCALE:GREGORIAN
BEGIN:VEVENT
UID:31fa47945be856a2eda7006becbf7977
DTSTAMP:20260425T164646Z
SUMMARY:CARNAVAL SZTUKMISTRZÓW
DESCRIPTION:https://kermeszalest.com/nl/agenda/carnaval-sztukmistrzow
DTSTART;VALUE=DATE:20190727
DTEND;VALUE=DATE:20190729
LOCATION:Grodzka 7
END:VEVENT
END:VCALENDAR
