BEGIN:VCALENDAR
PRODID:-//eluceo/ical//2.0/EN
VERSION:2.0
CALSCALE:GREGORIAN
BEGIN:VEVENT
UID:a374682d388d5e9caf8a7f7aa824d0be
DTSTAMP:20260425T112752Z
SUMMARY:Barraquito
DESCRIPTION:https://kermeszalest.com/nl/agenda/barraquito
DTSTART;VALUE=DATE:20220728
DTEND;VALUE=DATE:20220729
LOCATION:
END:VEVENT
END:VCALENDAR
