BEGIN:VCALENDAR
PRODID:-//eluceo/ical//2.0/EN
VERSION:2.0
CALSCALE:GREGORIAN
BEGIN:VEVENT
UID:121cc9f8afd33db0f6f1cd69fe56ffe4
DTSTAMP:20260419T235927Z
SUMMARY:Balkan Trafik
DESCRIPTION:https://kermeszalest.com/nl/agenda/balkan-trafik-1
DTSTART;VALUE=DATE:20230427
DTEND;VALUE=DATE:20230428
LOCATION:
END:VEVENT
END:VCALENDAR
