BEGIN:VCALENDAR
PRODID:-//eluceo/ical//2.0/EN
VERSION:2.0
CALSCALE:GREGORIAN
BEGIN:VEVENT
UID:82f32db3143e4ddf56b6e5521aeeab61
DTSTAMP:20260425T141817Z
SUMMARY:Ateliers Partagés
DESCRIPTION:https://kermeszalest.com/nl/agenda/ateliers-partages
DTSTART;VALUE=DATE:20220711
DTEND;VALUE=DATE:20220712
LOCATION:Pl. du Palais de Justice 10\, 6840 Neufchâteau
END:VEVENT
END:VCALENDAR
