BEGIN:VCALENDAR
PRODID:-//eluceo/ical//2.0/EN
VERSION:2.0
CALSCALE:GREGORIAN
BEGIN:VEVENT
UID:8a5e1361baa32d221adf234eec3b11e2
DTSTAMP:20260425T124712Z
SUMMARY:Atelier 210
DESCRIPTION:https://kermeszalest.com/nl/agenda/atelier-210
DTSTART;VALUE=DATE:20140920
DTEND;VALUE=DATE:20140921
LOCATION:
END:VEVENT
END:VCALENDAR
