BEGIN:VCALENDAR
PRODID:-//eluceo/ical//2.0/EN
VERSION:2.0
CALSCALE:GREGORIAN
BEGIN:VEVENT
UID:3dc6aff173b440478d5caa77f04df735
DTSTAMP:20260425T173100Z
SUMMARY:Zomer Jazz Fiets Tour
DESCRIPTION:https://kermeszalest.com/fr/agenda/zomer-jazz-fiets-tour
DTSTART;VALUE=DATE:20160826
DTEND;VALUE=DATE:20160828
LOCATION:
END:VEVENT
END:VCALENDAR
