BEGIN:VCALENDAR
PRODID:-//eluceo/ical//2.0/EN
VERSION:2.0
CALSCALE:GREGORIAN
BEGIN:VEVENT
UID:4b1c538422065978a281bca7a20afdec
DTSTAMP:20260425T172646Z
SUMMARY:WOMAD festival
DESCRIPTION:https://kermeszalest.com/fr/agenda/womad-festival
DTSTART;VALUE=DATE:20181115
DTEND;VALUE=DATE:20181116
LOCATION:
END:VEVENT
END:VCALENDAR
