BEGIN:VCALENDAR
PRODID:-//eluceo/ical//2.0/EN
VERSION:2.0
CALSCALE:GREGORIAN
BEGIN:VEVENT
UID:7bfe98ca3b93411d9efacd6823b2be54
DTSTAMP:20260425T111854Z
SUMMARY:Tournai
DESCRIPTION:https://kermeszalest.com/fr/agenda/tournai
DTSTART;VALUE=DATE:20180620
DTEND;VALUE=DATE:20180621
LOCATION:
END:VEVENT
END:VCALENDAR
