BEGIN:VCALENDAR
PRODID:-//eluceo/ical//2.0/EN
VERSION:2.0
CALSCALE:GREGORIAN
BEGIN:VEVENT
UID:b70eeb723492e996f4512e5f25f1be33
DTSTAMP:20260425T122757Z
SUMMARY:Théâtre de la Petite Reine
DESCRIPTION:https://kermeszalest.com/fr/agenda/theatre-de-la-petite-reine
DTSTART;VALUE=DATE:20170924
DTEND;VALUE=DATE:20170925
LOCATION:
END:VEVENT
END:VCALENDAR
