BEGIN:VCALENDAR
PRODID:-//eluceo/ical//2.0/EN
VERSION:2.0
CALSCALE:GREGORIAN
BEGIN:VEVENT
UID:c1582f431b3ac7b16b6e6a804840e75d
DTSTAMP:20260426T012734Z
SUMMARY:Théâtre au Château
DESCRIPTION:https://kermeszalest.com/fr/agenda/theatre-au-chateau
DTSTART;VALUE=DATE:20190724
DTEND;VALUE=DATE:20190725
LOCATION:Rue du Châtelet
END:VEVENT
END:VCALENDAR
