BEGIN:VCALENDAR
PRODID:-//eluceo/ical//2.0/EN
VERSION:2.0
CALSCALE:GREGORIAN
BEGIN:VEVENT
UID:67d3e6fb463e2e5ceb3fb1737abe5a2b
DTSTAMP:20260425T172030Z
SUMMARY:Centre culturel
DESCRIPTION:https://kermeszalest.com/fr/agenda/st-vith-be
DTSTART;VALUE=DATE:20181020
DTEND;VALUE=DATE:20181021
LOCATION:
END:VEVENT
END:VCALENDAR
