BEGIN:VCALENDAR
PRODID:-//eluceo/ical//2.0/EN
VERSION:2.0
CALSCALE:GREGORIAN
BEGIN:VEVENT
UID:5009e6a2a2abc5a6eae979903bc6e9a2
DTSTAMP:20260425T172014Z
SUMMARY:Sortilèges
DESCRIPTION:https://kermeszalest.com/fr/agenda/sortileges
DTSTART;VALUE=DATE:20170525
DTEND;VALUE=DATE:20170526
LOCATION:
END:VEVENT
END:VCALENDAR
