BEGIN:VCALENDAR
PRODID:-//eluceo/ical//2.0/EN
VERSION:2.0
CALSCALE:GREGORIAN
BEGIN:VEVENT
UID:27eeaba62d78a0f598bf32326a4f3a17
DTSTAMP:20260425T192442Z
SUMMARY:Silex - Faites du Feu !
DESCRIPTION:https://kermeszalest.com/fr/agenda/silex-faites-du-feu
DTSTART;VALUE=DATE:20230624
DTEND;VALUE=DATE:20230625
LOCATION:
END:VEVENT
END:VCALENDAR
