BEGIN:VCALENDAR
PRODID:-//eluceo/ical//2.0/EN
VERSION:2.0
CALSCALE:GREGORIAN
BEGIN:VEVENT
UID:680f58ff7b5d0983d6840c5c6dd8e94f
DTSTAMP:20260426T023020Z
SUMMARY:Rallye de la Petite Reine
DESCRIPTION:https://kermeszalest.com/fr/agenda/rallye-de-la-petite-reine
DTSTART;VALUE=DATE:20200912
DTEND;VALUE=DATE:20200914
LOCATION:
END:VEVENT
END:VCALENDAR
